BEGIN:VCALENDAR
VERSION:2.0
PRODID:-//ChamberMaster//Event Calendar 2.0//EN
METHOD:PUBLISH
X-PUBLISHED-TTL:P3D
REFRESH-INTERVAL:P3D
CALSCALE:GREGORIAN
BEGIN:VEVENT
DTSTART;VALUE=DATE:20260411
DTEND;VALUE=DATE:20260412
TRANSP:TRANSPARENT
X-MICROSOFT-CDO-ALLDAYEVENT:TRUE
SUMMARY:Trinity Ale Trail
DESCRIPTION:Trinity Ale Trail Returns this Spring on April 11 with Award-Winning Breweries TRINITY\, FL   Craft beer lovers are invited to explore the growing brewery scene in Pasco County when the Trinity Ale Trail returns on Saturday\, April 11. The one-day beer adventure connects four local breweries Thirsty Buffalo Brew Factory\, Escape Brewing Co.\, BarrieHaus Beer Co. Trinity\, and The Liquid Garage Brewing Co. for a self-guided trail celebrating award-winning local beer.
X-ALT-DESC;FMTTYPE=text/html:Trinity Ale Trail Returns this Spring on April 11 with Award-Winning Breweries TRINITY\, FL &mdash\; Craft beer lovers are invited to explore the growing brewery scene in Pasco County when the Trinity Ale Trail returns on Saturday\, April 11. The one-day beer adventure connects four local breweries&mdash\;Thirsty Buffalo Brew Factory\, Escape Brewing Co.\, BarrieHaus Beer Co. Trinity\, and The Liquid Garage Brewing Co.&mdash\;for a self-guided trail celebrating award-winning local beer.
LOCATION:BarrieHaus Trinity\, Escape Brewery\, Thirsty Buffalo\, The Liquid Garage
UID:e.3427.20144
SEQUENCE:3
DTSTAMP:20260419T221444Z
URL:http://greaterpasco.chambermaster.com/events/details/trinity-ale-trail-20144
END:VEVENT

END:VCALENDAR
