BEGIN:VCALENDAR
VERSION:2.0
PRODID:-//ChamberMaster//Event Calendar 2.0//EN
METHOD:PUBLISH
X-PUBLISHED-TTL:P3D
REFRESH-INTERVAL:P3D
CALSCALE:GREGORIAN
BEGIN:VEVENT
DTSTART:20260121T233000Z
DTEND:20260122T010000Z
X-MICROSOFT-CDO-ALLDAYEVENT:FALSE
SUMMARY:January Wine Dinner
DESCRIPTION:Celebrate our first 2026 Wine Dinner as we pair Duckhorn Vineyards wines with four authentic Italian courses.  Featuring Touchstone Crystal\, providing a beautiful jewelry pieces added to our door prizes\, and great gift ideas for that special someone.
X-ALT-DESC;FMTTYPE=text/html:<span style="background-color:rgb(255\, 255\, 255)\; color:rgb(5\, 5\, 5)\; font-family:segoe ui historic\,segoe ui\,helvetica\,arial\,sans-serif\; font-size:15px">Celebrate our first 2026 Wine Dinner as we pair Duckhorn Vineyards wines with four authentic Italian courses.&nbsp\; Featuring Touchstone Crystal\, providing a beautiful jewelry pieces added to our door prizes\, and great gift ideas for that special someone.&nbsp\;&nbsp\;</span>
LOCATION:10110 US HWY 19 N Port Richey\, FL 34668
UID:e.3427.19883
SEQUENCE:3
DTSTAMP:20260420T023752Z
URL:http://greaterpasco.chambermaster.com/events/details/january-wine-dinner-19883
END:VEVENT

END:VCALENDAR
