BEGIN:VCALENDAR
VERSION:2.0
PRODID:-//ChamberMaster//Event Calendar 2.0//EN
METHOD:PUBLISH
X-PUBLISHED-TTL:P3D
REFRESH-INTERVAL:P3D
CALSCALE:GREGORIAN
BEGIN:VEVENT
DTSTART:20260316T223000Z
DTEND:20260316T233000Z
X-MICROSOFT-CDO-ALLDAYEVENT:FALSE
SUMMARY:Empowered GutWise Collective
DESCRIPTION:Your gut is talking. Are you listening?\n\nThe Empowered GutWise Collective is a 6-week virtual group program that finally connects the dots between how you eat\, how you feel\, and how you heal.\n\nThis isn't another diet. This isn't a quick fix. This is wisdom the kind that changes everything.\n\nYou'll learn: ?? Synergistic Eating   how to pair foods so your body actually absorbs what it needs ?? Strategic Eating   when and why timing matters more than you think ?? Purposeful Eating   how to eat with intention\, not just habit\n\nBut we don't stop at food.\n\nWe address the whole body through the 7 Pillars of Health because your gut doesn't work in isolation. It's connected to your energy\, your hormones\, your mood\, your sleep\, and yes... even your ability to show up as the best version of yourself.\n\nNo prescriptions. No gimmicks. Just the tools and knowledge to finally become the expert on YOUR own body.\n\nStarting in March. Limited spots available.\n\nA healthy gut is a life well lived. ??
X-ALT-DESC;FMTTYPE=text/html:<p>Your gut is talking. Are you listening?</p>\n\n<p><strong>The Empowered GutWise Collective</strong> is a 6-week virtual group program that finally connects the dots between how you eat\, how you feel\, and how you heal.</p>\n\n<p>This isn&#39\;t another diet. This isn&#39\;t a quick fix. This is <em>wisdom</em>&mdash\;the kind that changes everything.</p>\n\n<p>You&#39\;ll learn: ?? <strong>Synergistic Eating</strong> &mdash\; how to pair foods so your body actually absorbs what it needs ?? <strong>Strategic Eating</strong> &mdash\; when and why timing matters more than you think ?? <strong>Purposeful Eating</strong> &mdash\; how to eat with intention\, not just habit</p>\n\n<p>But we don&#39\;t stop at food.</p>\n\n<p>We address the <strong>whole body</strong> through the 7 Pillars of Health&mdash\;because your gut doesn&#39\;t work in isolation. It&#39\;s connected to your energy\, your hormones\, your mood\, your sleep\, and yes... even your ability to show up as the best version of yourself.</p>\n\n<p>No prescriptions. No gimmicks. Just the tools and knowledge to finally become the expert on YOUR own body.</p>\n\n<p><strong>Starting in March.</strong> Limited spots available.</p>\n\n<p><em>A healthy gut is a life well lived.</em> ??</p>\n
LOCATION:Virtual
UID:e.3427.19910
SEQUENCE:3
DTSTAMP:20260420T045219Z
URL:http://greaterpasco.chambermaster.com/events/details/empowered-gutwise-collective-19910
END:VEVENT

END:VCALENDAR
